BEGIN:VCALENDAR
VERSION:2.0
PRODID:-//Urban Roots - ECPv6.15.20//NONSGML v1.0//EN
CALSCALE:GREGORIAN
METHOD:PUBLISH
X-ORIGINAL-URL:https://urbanrootsmn.org
X-WR-CALDESC:Events for Urban Roots
REFRESH-INTERVAL;VALUE=DURATION:PT1H
X-Robots-Tag:noindex
X-PUBLISHED-TTL:PT1H
BEGIN:VTIMEZONE
TZID:America/Chicago
BEGIN:DAYLIGHT
TZOFFSETFROM:-0600
TZOFFSETTO:-0500
TZNAME:CDT
DTSTART:20240310T080000
END:DAYLIGHT
BEGIN:STANDARD
TZOFFSETFROM:-0500
TZOFFSETTO:-0600
TZNAME:CST
DTSTART:20241103T070000
END:STANDARD
BEGIN:DAYLIGHT
TZOFFSETFROM:-0600
TZOFFSETTO:-0500
TZNAME:CDT
DTSTART:20250309T080000
END:DAYLIGHT
BEGIN:STANDARD
TZOFFSETFROM:-0500
TZOFFSETTO:-0600
TZNAME:CST
DTSTART:20251102T070000
END:STANDARD
BEGIN:DAYLIGHT
TZOFFSETFROM:-0600
TZOFFSETTO:-0500
TZNAME:CDT
DTSTART:20260308T080000
END:DAYLIGHT
BEGIN:STANDARD
TZOFFSETFROM:-0500
TZOFFSETTO:-0600
TZNAME:CST
DTSTART:20261101T070000
END:STANDARD
END:VTIMEZONE
BEGIN:VEVENT
DTSTART;VALUE=DATE:20250717
DTEND;VALUE=DATE:20250728
DTSTAMP:20260423T173607
CREATED:20250408T203530Z
LAST-MODIFIED:20250624T193319Z
UID:11266-1752710400-1753660799@urbanrootsmn.org
SUMMARY:The Secret Garden
DESCRIPTION:• Purchase Tickets • The Art of Reconciliation is a performing arts company dedicated to raising awareness of social challenges through performance\, education\, and action\, inspiring support for the work of reconciliation\, restoration\, and healing. For each of their shows\, they partner with a local organization doing work that connects to a theme found in the show. Urban Roots was chosen as the partner for this summer’s production of The Secret Garden\, based on the novel by Frances Hodgson Burnett.\n\n\n\n\nThis compelling tale of forgiveness and renewal based on Frances Hodgson Burnett’s 1911 novel is reimagined in brilliant musical style by composer Lucy Simon and Marsha Norman. Orphaned in India\, 11-year-old Mary Lennox returns to Yorkshire to live with her embittered\, reclusive uncle Archibald and his bedridden son Colin.  The garden serves as a place of healing and transformation for the characters in the story as they participate in the rebirth of spring.  Presented in arrangement with Concord Theatricals.\n\n\n\n\nThis show is appropriate for all ages and will partner with Urban Roots\, a Saint Paul organization whose mission is to cultivate and empower youth through nature\, healthy food\, and community.\n → Urban Roots will be hosting a pop-up farmers market at the July 24th show. We will also be tabling at the performance on July 27th.\n\n\n\n\nTickets are sliding scale\, so you can choose a price point that fits your budget while supporting the performing arts in our community.\n$20/$30/$40\n\nPerformances will be at Elision Playhouse in Crystal\, MN July 17\, 18\, 19\, 24\, 25\, 26 @ 7pm and July 20\, 27 @ 2pm.\nwww.theartofreconciliation.com
URL:https://urbanrootsmn.org/event/the-secret-garden/
LOCATION:Elision Playhouse\, 6105 N 42nd Ave\, Crystal\, Minnesota\, 55422
ATTACH;FMTTYPE=image/png:https://urbanrootsmn.org/wp-content/uploads/2025/04/10.png
END:VEVENT
BEGIN:VEVENT
DTSTART;TZID=America/Chicago:20250719T080000
DTEND;TZID=America/Chicago:20250719T130000
DTSTAMP:20260423T173607
CREATED:20250505T191129Z
LAST-MODIFIED:20250505T192648Z
UID:11490-1752912000-1752930000@urbanrootsmn.org
SUMMARY:Mill City Farmers Market
DESCRIPTION:We will be back at the Mill City Farmers Market for another season! You can find us there every other Saturday starting in June\, from 8am-1pm. \nWe’ll be bringing a vibrant selection of vegetables\, fruits\, and herbs freshly harvested from our urban farm sites. Come by our stand to stock up on what’s in season\, meet the growers\, and support local food that makes a difference.
URL:https://urbanrootsmn.org/event/mill-city-farmers-market-3/
LOCATION:East Side Sculpture Park\, 705 E 7th Street\, Saint Paul\, Minnesota\, 55106
CATEGORIES:Farmers Markets,Mill City Farmers Market
ATTACH;FMTTYPE=image/png:https://urbanrootsmn.org/wp-content/uploads/2025/05/Events-Page-Market-Mill-City.png
END:VEVENT
END:VCALENDAR