BEGIN:VCALENDAR
VERSION:2.0
PRODID:-//Urban Roots - ECPv6.15.20//NONSGML v1.0//EN
CALSCALE:GREGORIAN
METHOD:PUBLISH
X-ORIGINAL-URL:https://urbanrootsmn.org
X-WR-CALDESC:Events for Urban Roots
REFRESH-INTERVAL;VALUE=DURATION:PT1H
X-Robots-Tag:noindex
X-PUBLISHED-TTL:PT1H
BEGIN:VTIMEZONE
TZID:America/Chicago
BEGIN:DAYLIGHT
TZOFFSETFROM:-0600
TZOFFSETTO:-0500
TZNAME:CDT
DTSTART:20240310T080000
END:DAYLIGHT
BEGIN:STANDARD
TZOFFSETFROM:-0500
TZOFFSETTO:-0600
TZNAME:CST
DTSTART:20241103T070000
END:STANDARD
BEGIN:DAYLIGHT
TZOFFSETFROM:-0600
TZOFFSETTO:-0500
TZNAME:CDT
DTSTART:20250309T080000
END:DAYLIGHT
BEGIN:STANDARD
TZOFFSETFROM:-0500
TZOFFSETTO:-0600
TZNAME:CST
DTSTART:20251102T070000
END:STANDARD
BEGIN:DAYLIGHT
TZOFFSETFROM:-0600
TZOFFSETTO:-0500
TZNAME:CDT
DTSTART:20260308T080000
END:DAYLIGHT
BEGIN:STANDARD
TZOFFSETFROM:-0500
TZOFFSETTO:-0600
TZNAME:CST
DTSTART:20261101T070000
END:STANDARD
END:VTIMEZONE
BEGIN:VEVENT
DTSTART;VALUE=DATE:20251003
DTEND;VALUE=DATE:20251006
DTSTAMP:20260423T125047
CREATED:20250408T205405Z
LAST-MODIFIED:20250618T200331Z
UID:11277-1759449600-1759708799@urbanrootsmn.org
SUMMARY:Medtronic Twin Cities Marathon Weekend
DESCRIPTION:Support our charity race team! We will be running in the Medtronic Twin Cities Marathon and 10 mile. \nWhy join Team Urban Roots? Because you’ll… \n\nMake your miles matter by helping to raise funds and awareness for our work to empower youth\, improve greenspaces\, and grow and prepare healthy food.\nGet guaranteed\, $95+fees entry to the TC 10 Mile (which has first come\, first served registration this year). If you’re running the marathon\, registration is $139+fees (the lowest public price for the marathon is $149+fees and increases as the race fills).\nHave fun! You’ll be invited to an optional group training run for our team\, which was a great time last year\, and you’ll get extra-special cheers from our Cheer Zone.\n\n  \nHow do I join Team Urban Roots? \n\nLet us know before you register by emailing Team Captain Sara – be sure to mention which distance (marathon or 10 mile) you want to run.\nIf there’s still space on the team\, Sara will send you registration instructions.\n\nWhat’s expected of me if I join? \n\nThere is a $50 minimum fundraising requirement for TC 10 Mile runners (of course more is better!).\nAll team members are expected to share about the fundraiser with friends and family. Both Urban Roots and Twin Cities in Motion will have graphics you can use.\nFundraising will take place through Race Roster.
URL:https://urbanrootsmn.org/event/medtronic-twin-cities-marathon-weekend/
LOCATION:MN
ATTACH;FMTTYPE=image/png:https://urbanrootsmn.org/wp-content/uploads/2025/04/Events-Page-Race-Team.png
END:VEVENT
BEGIN:VEVENT
DTSTART;TZID=America/Chicago:20251004T080000
DTEND;TZID=America/Chicago:20251004T130000
DTSTAMP:20260423T125047
CREATED:20250505T192132Z
LAST-MODIFIED:20250505T192445Z
UID:11502-1759564800-1759582800@urbanrootsmn.org
SUMMARY:Mill City Farmers Market
DESCRIPTION:Find us at the Mill City Farmers Market  every other Saturday\, from 8am-1pm. We’ll be bringing a vibrant selection of vegetables\, fruits\, and herbs freshly harvested from our urban farm sites. Come by our stand to stock up on what’s in season and support local food that makes a difference.
URL:https://urbanrootsmn.org/event/mill-city-farmers-market-9/
LOCATION:Mill City Farmers Market\, 750 S 2nd St\, Minneapolis\, Minnesota\, 55401
CATEGORIES:Farmers Markets,Mill City Farmers Market
ATTACH;FMTTYPE=image/png:https://urbanrootsmn.org/wp-content/uploads/2025/05/Events-Page-Market-Mill-City.png
END:VEVENT
END:VCALENDAR