BEGIN:VCALENDAR
VERSION:2.0
PRODID:-//Urban Roots - ECPv6.15.20//NONSGML v1.0//EN
CALSCALE:GREGORIAN
METHOD:PUBLISH
X-WR-CALNAME:Urban Roots
X-ORIGINAL-URL:https://urbanrootsmn.org
X-WR-CALDESC:Events for Urban Roots
REFRESH-INTERVAL;VALUE=DURATION:PT1H
X-Robots-Tag:noindex
X-PUBLISHED-TTL:PT1H
BEGIN:VTIMEZONE
TZID:America/Chicago
BEGIN:DAYLIGHT
TZOFFSETFROM:-0600
TZOFFSETTO:-0500
TZNAME:CDT
DTSTART:20250309T080000
END:DAYLIGHT
BEGIN:STANDARD
TZOFFSETFROM:-0500
TZOFFSETTO:-0600
TZNAME:CST
DTSTART:20251102T070000
END:STANDARD
BEGIN:DAYLIGHT
TZOFFSETFROM:-0600
TZOFFSETTO:-0500
TZNAME:CDT
DTSTART:20260308T080000
END:DAYLIGHT
BEGIN:STANDARD
TZOFFSETFROM:-0500
TZOFFSETTO:-0600
TZNAME:CST
DTSTART:20261101T070000
END:STANDARD
BEGIN:DAYLIGHT
TZOFFSETFROM:-0600
TZOFFSETTO:-0500
TZNAME:CDT
DTSTART:20270314T080000
END:DAYLIGHT
BEGIN:STANDARD
TZOFFSETFROM:-0500
TZOFFSETTO:-0600
TZNAME:CST
DTSTART:20271107T070000
END:STANDARD
END:VTIMEZONE
BEGIN:VEVENT
DTSTART;TZID=America/Chicago:20260325T180000
DTEND;TZID=America/Chicago:20260325T190000
DTSTAMP:20260423T050355
CREATED:20260223T155721Z
LAST-MODIFIED:20260223T155721Z
UID:12481-1774461600-1774465200@urbanrootsmn.org
SUMMARY:Spring Seed Sowing Workshop
DESCRIPTION:Come play in the dirt with the East Side Seed Library at our seed sowing workshop! Learn why we need to stratify seeds and participate in a step-by-step tutorial focused on annual flowers\, vegetables\, and native forbs. All participants will receive one seed sowing kit (milk jug green house\, soil\, and seeds). \nRegistration Required. \nThis event is a collaboration between Urban Roots\, Metro State University Library\, and the Dayton’s Bluff branch of the Saint Paul Public Library. \nFor information on this and other seed-related events\, visit https://libguides.metrostate.edu/eastsideseedlibrary
URL:https://urbanrootsmn.org/event/spring-seed-sowing-workshop/
LOCATION:GROW-IT Center\, 445 Maria Ave\, Saint Paul\, MN\, 55106\, United States
ORGANIZER;CN="Dayton's Bluff Library":MAILTO:daytonsbluff@ci.stpaul.mn.us
END:VEVENT
END:VCALENDAR