BEGIN:VCALENDAR
VERSION:2.0
PRODID:-//Urban Roots - ECPv6.15.20//NONSGML v1.0//EN
CALSCALE:GREGORIAN
METHOD:PUBLISH
X-WR-CALNAME:Urban Roots
X-ORIGINAL-URL:https://urbanrootsmn.org
X-WR-CALDESC:Events for Urban Roots
REFRESH-INTERVAL;VALUE=DURATION:PT1H
X-Robots-Tag:noindex
X-PUBLISHED-TTL:PT1H
BEGIN:VTIMEZONE
TZID:America/Chicago
BEGIN:DAYLIGHT
TZOFFSETFROM:-0600
TZOFFSETTO:-0500
TZNAME:CDT
DTSTART:20250309T080000
END:DAYLIGHT
BEGIN:STANDARD
TZOFFSETFROM:-0500
TZOFFSETTO:-0600
TZNAME:CST
DTSTART:20251102T070000
END:STANDARD
BEGIN:DAYLIGHT
TZOFFSETFROM:-0600
TZOFFSETTO:-0500
TZNAME:CDT
DTSTART:20260308T080000
END:DAYLIGHT
BEGIN:STANDARD
TZOFFSETFROM:-0500
TZOFFSETTO:-0600
TZNAME:CST
DTSTART:20261101T070000
END:STANDARD
BEGIN:DAYLIGHT
TZOFFSETFROM:-0600
TZOFFSETTO:-0500
TZNAME:CDT
DTSTART:20270314T080000
END:DAYLIGHT
BEGIN:STANDARD
TZOFFSETFROM:-0500
TZOFFSETTO:-0600
TZNAME:CST
DTSTART:20271107T070000
END:STANDARD
END:VTIMEZONE
BEGIN:VEVENT
DTSTART;VALUE=DATE:20260401
DTEND;VALUE=DATE:20260501
DTSTAMP:20260423T040424
CREATED:20260115T190500Z
LAST-MODIFIED:20260226T212310Z
UID:12314-1775001600-1777593599@urbanrootsmn.org
SUMMARY:Change Matters: Round up at the Wedge Co-op
DESCRIPTION:Urban Roots was selected to be the round up recipient for the Change Matters program at the Wedge Co-op. Say “yes” throughout April when asked if you’d like to round up! \nFrom the Wedge’s website: \nOur Change Matters program generates funds for local\, non-profit\, and community-enrichment organizations through donations collected at the registers at both Wedge locations. Co-op shoppers are invited to round up their purchases to the next dollar every time they shop\, and these small-change donations add up to impactful contributions. While we cannot guarantee a certain dollar amount will be raised across our two retail locations\, we typically raise up to $10\,000 each month. 100% of the donations go to our partner organizations. Through this program Wedge Community Co-ops seek to create meaningful\, productive\, and lasting partnerships with local organizations.
URL:https://urbanrootsmn.org/event/change-matters-round-up-at-the-wedge-co-op/
LOCATION:MN
ATTACH;FMTTYPE=image/jpeg:https://urbanrootsmn.org/wp-content/uploads/2026/01/wedge.jpg
END:VEVENT
BEGIN:VEVENT
DTSTART;TZID=America/Chicago:20260418T090000
DTEND;TZID=America/Chicago:20260418T190000
DTSTAMP:20260423T040424
CREATED:20260323T143222Z
LAST-MODIFIED:20260325T164448Z
UID:12560-1776502800-1776538800@urbanrootsmn.org
SUMMARY:Sustainability Summit
DESCRIPTION:The Sustainability Summit is a day packed with inspiring talks and great networking opportunities. Whether you’re passionate about circular living or just curious\, this is the spot to connect with like-minded folks and learn practical ways for applying adaptability. Don’t miss out on the chance to be part of a community that’s all about building a better\, sustainable future.
URL:https://urbanrootsmn.org/event/sustainability-summit/
LOCATION:PAIKKA\, 550 Vandalia Street #165\, Saint Paul\, MN\, 55114
ATTACH;FMTTYPE=image/png:https://urbanrootsmn.org/wp-content/uploads/2026/03/Event-Brite-Header-scaled.png
END:VEVENT
BEGIN:VEVENT
DTSTART;TZID=America/Chicago:20260418T130000
DTEND;TZID=America/Chicago:20260418T150000
DTSTAMP:20260423T040424
CREATED:20260413T135328Z
LAST-MODIFIED:20260413T135328Z
UID:12743-1776517200-1776524400@urbanrootsmn.org
SUMMARY:Seed Library Open House
DESCRIPTION:Spring is in the air and the East Side Seed Library is gearing up for growing season! Join us for an Open House on Saturday\, April 18 from 1 – 3 p.m. where you’ll have first pick of our latest free seed offerings as well as a chance to meet fellow gardening enthusiasts. No green thumb? Not a problem! Urban Roots and other local groups will be on hand to share their expertise. Plus we’ll have books on gardening and plant life available for check out courtesy of the Metro State and Saint Paul Public Libraries. Dayton’s Bluff FunLab! will be marking the occasion with a special Earth Day activity for tweens starting at 2:30 p.m. \nWant to help us prepare for the Open House? Come to the Community Seed Circle on Wednesday\, April 15. Learn more about the seed library\, help sort seeds\, or bring your own seed donations to share with neighbors! \nIf you need disability related accommodations\, including parking\, to make these events accessible\, please contact the Center for Accessibility Resources\, 651.793.1549 or Accessibility.Resources@metrostate.edu
URL:https://urbanrootsmn.org/event/seed-library-open-house-2/
LOCATION:Dayton’s Bluff Library\, 645 E 7th St\, Saint Paul\, MN\, 55106\, United States
ATTACH;FMTTYPE=image/webp:https://urbanrootsmn.org/wp-content/uploads/2026/04/Seed-Library-Open-House-20260418-Website-Banner.webp
ORGANIZER;CN="Dayton's Bluff Library":MAILTO:daytonsbluff@ci.stpaul.mn.us
END:VEVENT
END:VCALENDAR