BEGIN:VCALENDAR
VERSION:2.0
PRODID:-//Urban Roots - ECPv6.15.20//NONSGML v1.0//EN
CALSCALE:GREGORIAN
METHOD:PUBLISH
X-WR-CALNAME:Urban Roots
X-ORIGINAL-URL:https://urbanrootsmn.org
X-WR-CALDESC:Events for Urban Roots
REFRESH-INTERVAL;VALUE=DURATION:PT1H
X-Robots-Tag:noindex
X-PUBLISHED-TTL:PT1H
BEGIN:VTIMEZONE
TZID:America/Chicago
BEGIN:DAYLIGHT
TZOFFSETFROM:-0600
TZOFFSETTO:-0500
TZNAME:CDT
DTSTART:20250309T080000
END:DAYLIGHT
BEGIN:STANDARD
TZOFFSETFROM:-0500
TZOFFSETTO:-0600
TZNAME:CST
DTSTART:20251102T070000
END:STANDARD
BEGIN:DAYLIGHT
TZOFFSETFROM:-0600
TZOFFSETTO:-0500
TZNAME:CDT
DTSTART:20260308T080000
END:DAYLIGHT
BEGIN:STANDARD
TZOFFSETFROM:-0500
TZOFFSETTO:-0600
TZNAME:CST
DTSTART:20261101T070000
END:STANDARD
BEGIN:DAYLIGHT
TZOFFSETFROM:-0600
TZOFFSETTO:-0500
TZNAME:CDT
DTSTART:20270314T080000
END:DAYLIGHT
BEGIN:STANDARD
TZOFFSETFROM:-0500
TZOFFSETTO:-0600
TZNAME:CST
DTSTART:20271107T070000
END:STANDARD
END:VTIMEZONE
BEGIN:VEVENT
DTSTART;TZID=America/Chicago:20260723T173000
DTEND;TZID=America/Chicago:20260723T190000
DTSTAMP:20260423T080311
CREATED:20260226T213537Z
LAST-MODIFIED:20260226T213655Z
UID:12515-1784827800-1784833200@urbanrootsmn.org
SUMMARY:Nature Yoga
DESCRIPTION:For the first time ever\, the Nature Yoga Club will be at our Rivoli Bluff Farm and Restoration Site to provide the “perfect blend of movement\, mindfulness\, and nature.” Stay tuned for details.
URL:https://urbanrootsmn.org/event/nature-yoga/
LOCATION:MN
ATTACH;FMTTYPE=image/png:https://urbanrootsmn.org/wp-content/uploads/2026/02/Events-Page-ImagesBanners-2.png
END:VEVENT
END:VCALENDAR