BEGIN:VCALENDAR
VERSION:2.0
PRODID:-//Urban Roots - ECPv6.15.20//NONSGML v1.0//EN
CALSCALE:GREGORIAN
METHOD:PUBLISH
X-WR-CALNAME:Urban Roots
X-ORIGINAL-URL:https://urbanrootsmn.org
X-WR-CALDESC:Events for Urban Roots
REFRESH-INTERVAL;VALUE=DURATION:PT1H
X-Robots-Tag:noindex
X-PUBLISHED-TTL:PT1H
BEGIN:VTIMEZONE
TZID:America/Chicago
BEGIN:DAYLIGHT
TZOFFSETFROM:-0600
TZOFFSETTO:-0500
TZNAME:CDT
DTSTART:20250309T080000
END:DAYLIGHT
BEGIN:STANDARD
TZOFFSETFROM:-0500
TZOFFSETTO:-0600
TZNAME:CST
DTSTART:20251102T070000
END:STANDARD
BEGIN:DAYLIGHT
TZOFFSETFROM:-0600
TZOFFSETTO:-0500
TZNAME:CDT
DTSTART:20260308T080000
END:DAYLIGHT
BEGIN:STANDARD
TZOFFSETFROM:-0500
TZOFFSETTO:-0600
TZNAME:CST
DTSTART:20261101T070000
END:STANDARD
BEGIN:DAYLIGHT
TZOFFSETFROM:-0600
TZOFFSETTO:-0500
TZNAME:CDT
DTSTART:20270314T080000
END:DAYLIGHT
BEGIN:STANDARD
TZOFFSETFROM:-0500
TZOFFSETTO:-0600
TZNAME:CST
DTSTART:20271107T070000
END:STANDARD
END:VTIMEZONE
BEGIN:VEVENT
DTSTART;VALUE=DATE:20260801
DTEND;VALUE=DATE:20260901
DTSTAMP:20260423T100132
CREATED:20260115T190917Z
LAST-MODIFIED:20260115T190917Z
UID:12318-1785542400-1788220799@urbanrootsmn.org
SUMMARY:Positive Change: Round Up at Mississippi Market
DESCRIPTION:Urban Roots was selected to be the August round up recipient for the Positive Change program at Mississippi Market!
URL:https://urbanrootsmn.org/event/positive-change-round-up-at-mississippi-market/
LOCATION:MN
ATTACH;FMTTYPE=image/jpeg:https://urbanrootsmn.org/wp-content/uploads/2026/01/missippi-market.jpg
END:VEVENT
BEGIN:VEVENT
DTSTART;TZID=America/Chicago:20260815T080000
DTEND;TZID=America/Chicago:20260815T130000
DTSTAMP:20260423T100132
CREATED:20260407T175704Z
LAST-MODIFIED:20260407T175704Z
UID:12642-1786780800-1786798800@urbanrootsmn.org
SUMMARY:Mill City Farmers Market
DESCRIPTION:Find us at the Mill City Farmers Market  every other Saturday\, from 8am-1pm. We’ll be bringing a vibrant selection of vegetables\, fruits\, and herbs freshly harvested from our urban farm sites. Come by our stand to stock up on what’s in season and support local food that makes a difference.
URL:https://urbanrootsmn.org/event/mill-city-farmers-market-16/
LOCATION:Mill City Farmers Market\, 750 S 2nd St\, Minneapolis\, Minnesota\, 55401
CATEGORIES:Farmers Markets,Mill City Farmers Market
ATTACH;FMTTYPE=image/png:https://urbanrootsmn.org/wp-content/uploads/2026/04/18.png
END:VEVENT
END:VCALENDAR