BEGIN:VCALENDAR
VERSION:2.0
PRODID:-//Urban Roots - ECPv6.15.20//NONSGML v1.0//EN
CALSCALE:GREGORIAN
METHOD:PUBLISH
X-WR-CALNAME:Urban Roots
X-ORIGINAL-URL:https://urbanrootsmn.org
X-WR-CALDESC:Events for Urban Roots
REFRESH-INTERVAL;VALUE=DURATION:PT1H
X-Robots-Tag:noindex
X-PUBLISHED-TTL:PT1H
BEGIN:VTIMEZONE
TZID:America/Chicago
BEGIN:DAYLIGHT
TZOFFSETFROM:-0600
TZOFFSETTO:-0500
TZNAME:CDT
DTSTART:20240310T080000
END:DAYLIGHT
BEGIN:STANDARD
TZOFFSETFROM:-0500
TZOFFSETTO:-0600
TZNAME:CST
DTSTART:20241103T070000
END:STANDARD
BEGIN:DAYLIGHT
TZOFFSETFROM:-0600
TZOFFSETTO:-0500
TZNAME:CDT
DTSTART:20250309T080000
END:DAYLIGHT
BEGIN:STANDARD
TZOFFSETFROM:-0500
TZOFFSETTO:-0600
TZNAME:CST
DTSTART:20251102T070000
END:STANDARD
BEGIN:DAYLIGHT
TZOFFSETFROM:-0600
TZOFFSETTO:-0500
TZNAME:CDT
DTSTART:20260308T080000
END:DAYLIGHT
BEGIN:STANDARD
TZOFFSETFROM:-0500
TZOFFSETTO:-0600
TZNAME:CST
DTSTART:20261101T070000
END:STANDARD
END:VTIMEZONE
BEGIN:VEVENT
DTSTART;TZID=America/Chicago:20250828T103000
DTEND;TZID=America/Chicago:20250828T113000
DTSTAMP:20260423T094839
CREATED:20250624T175331Z
LAST-MODIFIED:20250624T175331Z
UID:11881-1756377000-1756380600@urbanrootsmn.org
SUMMARY:Garden Storytime
DESCRIPTION:Join us for a weekly storytime and garden activity at the Urban Roots Children’s Garden at the Rivoli Bluffs Farm and Restoration Site.
URL:https://urbanrootsmn.org/event/garden-storytime_8_28/
LOCATION:Rivoli Bluff Farm and Restoration Site\, 749 Arkwright St\, Saint Paul\, MN\, 55130\, United States
CATEGORIES:Children's Garden Storytime
ATTACH;FMTTYPE=image/png:https://urbanrootsmn.org/wp-content/uploads/2025/06/childrens-garden-story-time.png
END:VEVENT
BEGIN:VEVENT
DTSTART;TZID=America/Chicago:20250821T103000
DTEND;TZID=America/Chicago:20250821T113000
DTSTAMP:20260423T094839
CREATED:20250624T175204Z
LAST-MODIFIED:20250624T175204Z
UID:11879-1755772200-1755775800@urbanrootsmn.org
SUMMARY:Garden Storytime
DESCRIPTION:Join us for a weekly storytime and garden activity at the Urban Roots Children’s Garden at the Rivoli Bluffs Farm and Restoration Site.
URL:https://urbanrootsmn.org/event/garden-storytime_8_21/
LOCATION:Rivoli Bluff Farm and Restoration Site\, 749 Arkwright St\, Saint Paul\, MN\, 55130\, United States
CATEGORIES:Children's Garden Storytime
ATTACH;FMTTYPE=image/png:https://urbanrootsmn.org/wp-content/uploads/2025/06/childrens-garden-story-time.png
END:VEVENT
BEGIN:VEVENT
DTSTART;TZID=America/Chicago:20250814T103000
DTEND;TZID=America/Chicago:20250814T113000
DTSTAMP:20260423T094839
CREATED:20250624T175049Z
LAST-MODIFIED:20250624T175049Z
UID:11877-1755167400-1755171000@urbanrootsmn.org
SUMMARY:Garden Storytime
DESCRIPTION:Join us for a weekly storytime and garden activity at the Urban Roots Children’s Garden at the Rivoli Bluffs Farm and Restoration Site.
URL:https://urbanrootsmn.org/event/garden-storytime_8_14/
LOCATION:Rivoli Bluff Farm and Restoration Site\, 749 Arkwright St\, Saint Paul\, MN\, 55130\, United States
CATEGORIES:Children's Garden Storytime
ATTACH;FMTTYPE=image/png:https://urbanrootsmn.org/wp-content/uploads/2025/06/childrens-garden-story-time.png
END:VEVENT
BEGIN:VEVENT
DTSTART;TZID=America/Chicago:20250807T103000
DTEND;TZID=America/Chicago:20250807T113000
DTSTAMP:20260423T094839
CREATED:20250624T174947Z
LAST-MODIFIED:20250624T174947Z
UID:11875-1754562600-1754566200@urbanrootsmn.org
SUMMARY:Garden Storytime
DESCRIPTION:Join us for a weekly storytime and garden activity at the Urban Roots Children’s Garden at the Rivoli Bluffs Farm and Restoration Site. Remona Htoo\, author of My Little Legs\, will be a special guest at today’s garden storytime!
URL:https://urbanrootsmn.org/event/garden-storytime_8_7/
LOCATION:Rivoli Bluff Farm and Restoration Site\, 749 Arkwright St\, Saint Paul\, MN\, 55130\, United States
CATEGORIES:Children's Garden Storytime
ATTACH;FMTTYPE=image/png:https://urbanrootsmn.org/wp-content/uploads/2025/06/childrens-garden-story-time.png
END:VEVENT
BEGIN:VEVENT
DTSTART;TZID=America/Chicago:20250731T103000
DTEND;TZID=America/Chicago:20250731T113000
DTSTAMP:20260423T094839
CREATED:20250624T174803Z
LAST-MODIFIED:20250624T174803Z
UID:11873-1753957800-1753961400@urbanrootsmn.org
SUMMARY:Garden Storytime
DESCRIPTION:Join us for a weekly storytime and garden activity at the Urban Roots Children’s Garden at the Rivoli Bluffs Farm and Restoration Site.
URL:https://urbanrootsmn.org/event/garden-storytime_7_31/
LOCATION:Rivoli Bluff Farm and Restoration Site\, 749 Arkwright St\, Saint Paul\, MN\, 55130\, United States
CATEGORIES:Children's Garden Storytime
ATTACH;FMTTYPE=image/png:https://urbanrootsmn.org/wp-content/uploads/2025/06/childrens-garden-story-time.png
END:VEVENT
BEGIN:VEVENT
DTSTART;TZID=America/Chicago:20250724T103000
DTEND;TZID=America/Chicago:20250724T113000
DTSTAMP:20260423T094839
CREATED:20250624T174659Z
LAST-MODIFIED:20250624T175421Z
UID:11871-1753353000-1753356600@urbanrootsmn.org
SUMMARY:Garden Storytime
DESCRIPTION:Join us for a weekly storytime and garden activity at the Urban Roots Children’s Garden at the Rivoli Bluffs Farm and Restoration Site.
URL:https://urbanrootsmn.org/event/garden-storytime_7_24/
LOCATION:Rivoli Bluff Farm and Restoration Site\, 749 Arkwright St\, Saint Paul\, MN\, 55130\, United States
CATEGORIES:Children's Garden Storytime
ATTACH;FMTTYPE=image/png:https://urbanrootsmn.org/wp-content/uploads/2025/06/childrens-garden-story-time.png
END:VEVENT
BEGIN:VEVENT
DTSTART;TZID=America/Chicago:20250717T103000
DTEND;TZID=America/Chicago:20250717T113000
DTSTAMP:20260423T094840
CREATED:20250624T174541Z
LAST-MODIFIED:20250624T174541Z
UID:11869-1752748200-1752751800@urbanrootsmn.org
SUMMARY:Garden Storytime
DESCRIPTION:Join us for a weekly storytime and garden activity at the Urban Roots Children’s Garden at the Rivoli Bluffs Farm and Restoration Site.
URL:https://urbanrootsmn.org/event/garden-storytime_7_17/
LOCATION:Rivoli Bluff Farm and Restoration Site\, 749 Arkwright St\, Saint Paul\, MN\, 55130\, United States
CATEGORIES:Children's Garden Storytime
ATTACH;FMTTYPE=image/png:https://urbanrootsmn.org/wp-content/uploads/2025/06/childrens-garden-story-time.png
END:VEVENT
BEGIN:VEVENT
DTSTART;TZID=America/Chicago:20250710T103000
DTEND;TZID=America/Chicago:20250710T113000
DTSTAMP:20260423T094840
CREATED:20250624T174403Z
LAST-MODIFIED:20250624T174403Z
UID:11867-1752143400-1752147000@urbanrootsmn.org
SUMMARY:Garden Storytime
DESCRIPTION:Join us for a weekly storytime and garden activity at the Urban Roots Children’s Garden at the Rivoli Bluffs Farm and Restoration Site.Ty Chapman\, author of Looking for Happy\, will be a special guest at today’s garden storytime!
URL:https://urbanrootsmn.org/event/garden-storytime_7_10/
LOCATION:Rivoli Bluff Farm and Restoration Site\, 749 Arkwright St\, Saint Paul\, MN\, 55130\, United States
CATEGORIES:Children's Garden Storytime
ATTACH;FMTTYPE=image/png:https://urbanrootsmn.org/wp-content/uploads/2025/06/childrens-garden-story-time.png
END:VEVENT
BEGIN:VEVENT
DTSTART;TZID=America/Chicago:20250703T103000
DTEND;TZID=America/Chicago:20250703T113000
DTSTAMP:20260423T094840
CREATED:20250624T174218Z
LAST-MODIFIED:20250624T174218Z
UID:11865-1751538600-1751542200@urbanrootsmn.org
SUMMARY:Garden Storytime
DESCRIPTION:Join us for a weekly storytime and garden activity at the Urban Roots Children’s Garden at the Rivoli Bluffs Farm and Restoration Site.
URL:https://urbanrootsmn.org/event/garden-storytime_7_03/
LOCATION:Rivoli Bluff Farm and Restoration Site\, 749 Arkwright St\, Saint Paul\, MN\, 55130\, United States
CATEGORIES:Children's Garden Storytime
ATTACH;FMTTYPE=image/png:https://urbanrootsmn.org/wp-content/uploads/2025/06/childrens-garden-story-time.png
END:VEVENT
BEGIN:VEVENT
DTSTART;TZID=America/Chicago:20250626T103000
DTEND;TZID=America/Chicago:20250626T113000
DTSTAMP:20260423T094840
CREATED:20250624T174101Z
LAST-MODIFIED:20250624T174101Z
UID:11862-1750933800-1750937400@urbanrootsmn.org
SUMMARY:Garden Storytime
DESCRIPTION:Join us for a weekly storytime and garden activity at the Urban Roots Children’s Garden at the Rivoli Bluffs Farm and Restoration Site. \nTara Perron\, author of Takóža: Walks with the Blue Moon Girl\, will be a special guest at today’s garden storytime!
URL:https://urbanrootsmn.org/event/garden-storytime_6_26/
LOCATION:Rivoli Bluff Farm and Restoration Site\, 749 Arkwright St\, Saint Paul\, MN\, 55130\, United States
CATEGORIES:Children's Garden Storytime
ATTACH;FMTTYPE=image/png:https://urbanrootsmn.org/wp-content/uploads/2025/06/childrens-garden-story-time.png
END:VEVENT
END:VCALENDAR