BEGIN:VCALENDAR
VERSION:2.0
PRODID:-//Urban Roots - ECPv6.15.20//NONSGML v1.0//EN
CALSCALE:GREGORIAN
METHOD:PUBLISH
X-WR-CALNAME:Urban Roots
X-ORIGINAL-URL:https://urbanrootsmn.org
X-WR-CALDESC:Events for Urban Roots
REFRESH-INTERVAL;VALUE=DURATION:PT1H
X-Robots-Tag:noindex
X-PUBLISHED-TTL:PT1H
BEGIN:VTIMEZONE
TZID:America/Chicago
BEGIN:DAYLIGHT
TZOFFSETFROM:-0600
TZOFFSETTO:-0500
TZNAME:CDT
DTSTART:20240310T080000
END:DAYLIGHT
BEGIN:STANDARD
TZOFFSETFROM:-0500
TZOFFSETTO:-0600
TZNAME:CST
DTSTART:20241103T070000
END:STANDARD
BEGIN:DAYLIGHT
TZOFFSETFROM:-0600
TZOFFSETTO:-0500
TZNAME:CDT
DTSTART:20250309T080000
END:DAYLIGHT
BEGIN:STANDARD
TZOFFSETFROM:-0500
TZOFFSETTO:-0600
TZNAME:CST
DTSTART:20251102T070000
END:STANDARD
BEGIN:DAYLIGHT
TZOFFSETFROM:-0600
TZOFFSETTO:-0500
TZNAME:CDT
DTSTART:20260308T080000
END:DAYLIGHT
BEGIN:STANDARD
TZOFFSETFROM:-0500
TZOFFSETTO:-0600
TZNAME:CST
DTSTART:20261101T070000
END:STANDARD
END:VTIMEZONE
BEGIN:VEVENT
DTSTART;TZID=America/Chicago:20250711T160000
DTEND;TZID=America/Chicago:20250711T190000
DTSTAMP:20260423T061813
CREATED:20250505T180300Z
LAST-MODIFIED:20250505T190227Z
UID:11468-1752249600-1752260400@urbanrootsmn.org
SUMMARY:East Side Farmers Market
DESCRIPTION:Fresh from the Farm to the East Side!Starting in June\, you can find us every second Friday of the month at the East Side Farmers Market from 4pm-7pm. The Market is held at the East Side Sculpture Park (corner of East 7th Street and Bates Avenue). \nWe’ll be there with a variety of fresh\, seasonal vegetables\, fruits\, and herbs harvested right from our urban farm sites.Come say hello\, support local growers\, and take home something healthy and delicious. We’d love to see you there!
URL:https://urbanrootsmn.org/event/east-side-farmers-market-july-2025/
LOCATION:East Side Sculpture Park\, 705 E 7th Street\, Saint Paul\, Minnesota\, 55106
CATEGORIES:East Side Farmers Market,Farmers Markets
ATTACH;FMTTYPE=image/png:https://urbanrootsmn.org/wp-content/uploads/2025/05/Events-Page-Market-East-Side.png
END:VEVENT
BEGIN:VEVENT
DTSTART;TZID=America/Chicago:20250705T080000
DTEND;TZID=America/Chicago:20250705T130000
DTSTAMP:20260423T061813
CREATED:20250505T191037Z
LAST-MODIFIED:20250505T192704Z
UID:11488-1751702400-1751720400@urbanrootsmn.org
SUMMARY:Mill City Farmers Market
DESCRIPTION:We will be back at the Mill City Farmers Market for another season! You can find us there every other Saturday starting in June\, from 8am-1pm. \nWe’ll be bringing a vibrant selection of vegetables\, fruits\, and herbs freshly harvested from our urban farm sites. Come by our stand to stock up on what’s in season\, meet the growers\, and support local food that makes a difference.
URL:https://urbanrootsmn.org/event/mill-city-farmers-market-2/
LOCATION:Mill City Farmers Market\, 750 S 2nd St\, Minneapolis\, Minnesota\, 55401
CATEGORIES:Farmers Markets,Mill City Farmers Market
ATTACH;FMTTYPE=image/png:https://urbanrootsmn.org/wp-content/uploads/2025/05/Events-Page-Market-Mill-City.png
END:VEVENT
BEGIN:VEVENT
DTSTART;TZID=America/Chicago:20250621T080000
DTEND;TZID=America/Chicago:20250621T130000
DTSTAMP:20260423T061813
CREATED:20250505T190954Z
LAST-MODIFIED:20250505T192720Z
UID:11485-1750492800-1750510800@urbanrootsmn.org
SUMMARY:Mill City Farmers Market
DESCRIPTION:We will be back at the Mill City Farmers Market for another season! You can find us there every other Saturday starting in June\, from 8am-1pm. \nWe’ll be bringing a vibrant selection of vegetables\, fruits\, and herbs freshly harvested from our urban farm sites. Come by our stand to stock up on what’s in season\, meet the growers\, and support local food that makes a difference.
URL:https://urbanrootsmn.org/event/mill-city-farmers-market/
LOCATION:Mill City Farmers Market\, 750 S 2nd St\, Minneapolis\, Minnesota\, 55401
CATEGORIES:Farmers Markets,Mill City Farmers Market
ATTACH;FMTTYPE=image/png:https://urbanrootsmn.org/wp-content/uploads/2025/05/Events-Page-Market-Mill-City.png
END:VEVENT
BEGIN:VEVENT
DTSTART;TZID=America/Chicago:20250613T160000
DTEND;TZID=America/Chicago:20250613T190000
DTSTAMP:20260423T061813
CREATED:20250505T180110Z
LAST-MODIFIED:20250505T190419Z
UID:11461-1749830400-1749841200@urbanrootsmn.org
SUMMARY:East Side Farmers Market
DESCRIPTION:Fresh from the Farm to the East Side!Starting in June\, you can find us every second Friday of the month at the East Side Farmers Market from 4pm-7pm. The Market is held at the East Side Sculpture Park (corner of East 7th Street and Bates Avenue). \nWe’ll be there with a variety of fresh\, seasonal vegetables\, fruits\, and herbs harvested right from our urban farm sites.Come say hello\, support local growers\, and take home something healthy and delicious. We’d love to see you there!
URL:https://urbanrootsmn.org/event/east-side-farmers-market-june-2025/
LOCATION:East Side Sculpture Park\, 705 E 7th Street\, Saint Paul\, Minnesota\, 55106
CATEGORIES:East Side Farmers Market,Farmers Markets
ATTACH;FMTTYPE=image/png:https://urbanrootsmn.org/wp-content/uploads/2025/05/Events-Page-Market-East-Side.png
END:VEVENT
END:VCALENDAR