BEGIN:VCALENDAR
VERSION:2.0
PRODID:-//Urban Roots - ECPv6.15.20//NONSGML v1.0//EN
CALSCALE:GREGORIAN
METHOD:PUBLISH
X-ORIGINAL-URL:https://urbanrootsmn.org
X-WR-CALDESC:Events for Urban Roots
REFRESH-INTERVAL;VALUE=DURATION:PT1H
X-Robots-Tag:noindex
X-PUBLISHED-TTL:PT1H
BEGIN:VTIMEZONE
TZID:America/Chicago
BEGIN:DAYLIGHT
TZOFFSETFROM:-0600
TZOFFSETTO:-0500
TZNAME:CDT
DTSTART:20240310T080000
END:DAYLIGHT
BEGIN:STANDARD
TZOFFSETFROM:-0500
TZOFFSETTO:-0600
TZNAME:CST
DTSTART:20241103T070000
END:STANDARD
BEGIN:DAYLIGHT
TZOFFSETFROM:-0600
TZOFFSETTO:-0500
TZNAME:CDT
DTSTART:20250309T080000
END:DAYLIGHT
BEGIN:STANDARD
TZOFFSETFROM:-0500
TZOFFSETTO:-0600
TZNAME:CST
DTSTART:20251102T070000
END:STANDARD
BEGIN:DAYLIGHT
TZOFFSETFROM:-0600
TZOFFSETTO:-0500
TZNAME:CDT
DTSTART:20260308T080000
END:DAYLIGHT
BEGIN:STANDARD
TZOFFSETFROM:-0500
TZOFFSETTO:-0600
TZNAME:CST
DTSTART:20261101T070000
END:STANDARD
END:VTIMEZONE
BEGIN:VEVENT
DTSTART;TZID=America/Chicago:20251015T160000
DTEND;TZID=America/Chicago:20251015T190000
DTSTAMP:20260423T174014
CREATED:20250902T185733Z
LAST-MODIFIED:20250904T220103Z
UID:11998-1760544000-1760554800@urbanrootsmn.org
SUMMARY:Farm Friends Wednesdays
DESCRIPTION:Looking for a way to get outside for a few hours and dig around in the dirt? Farm Friends Wednesday is the event for you! \nHeading into fall is a busy time of year for us; our to-do list is packed with big harvests\, prepping produce for winter storage\, and putting the gardens to bed. Not to mention\, the cool fall breeze makes garden work\, well\, a breeze! \nStop by and help us check a few things off our list! \n\nInterested in helping out but Wednesdays don’t work for you? We also offer Farm Friends Fridays\, reach out to the farm manager Marcos at mgiossi@urbanrootsmn.org to learn more.
URL:https://urbanrootsmn.org/event/farm-friends-wednesdays/
LOCATION:MN
CATEGORIES:Volunteer Event
ATTACH;FMTTYPE=image/jpeg:https://urbanrootsmn.org/wp-content/uploads/2025/09/Events-Page-ImagesBanners.jpg
END:VEVENT
END:VCALENDAR