BEGIN:VCALENDAR
VERSION:2.0
PRODID:-//Urban Roots - ECPv6.15.20//NONSGML v1.0//EN
CALSCALE:GREGORIAN
METHOD:PUBLISH
X-ORIGINAL-URL:https://urbanrootsmn.org
X-WR-CALDESC:Events for Urban Roots
REFRESH-INTERVAL;VALUE=DURATION:PT1H
X-Robots-Tag:noindex
X-PUBLISHED-TTL:PT1H
BEGIN:VTIMEZONE
TZID:America/Chicago
BEGIN:DAYLIGHT
TZOFFSETFROM:-0600
TZOFFSETTO:-0500
TZNAME:CDT
DTSTART:20250309T080000
END:DAYLIGHT
BEGIN:STANDARD
TZOFFSETFROM:-0500
TZOFFSETTO:-0600
TZNAME:CST
DTSTART:20251102T070000
END:STANDARD
BEGIN:DAYLIGHT
TZOFFSETFROM:-0600
TZOFFSETTO:-0500
TZNAME:CDT
DTSTART:20260308T080000
END:DAYLIGHT
BEGIN:STANDARD
TZOFFSETFROM:-0500
TZOFFSETTO:-0600
TZNAME:CST
DTSTART:20261101T070000
END:STANDARD
BEGIN:DAYLIGHT
TZOFFSETFROM:-0600
TZOFFSETTO:-0500
TZNAME:CDT
DTSTART:20270314T080000
END:DAYLIGHT
BEGIN:STANDARD
TZOFFSETFROM:-0500
TZOFFSETTO:-0600
TZNAME:CST
DTSTART:20271107T070000
END:STANDARD
END:VTIMEZONE
BEGIN:VEVENT
DTSTART;TZID=America/Chicago:20260809T130000
DTEND;TZID=America/Chicago:20260809T160000
DTSTAMP:20260423T063857
CREATED:20260409T163522Z
LAST-MODIFIED:20260409T163522Z
UID:12717-1786280400-1786291200@urbanrootsmn.org
SUMMARY:East Side Farmers Market
DESCRIPTION:Fresh from the Farm to the East Side! Find us every second Sunday of the month at the East Side Farmers Market from 1pm-4pm. The Market is held at the East Side Sculpture Park (corner of East 7th Street and Bates Avenue). \nWe’ll be there with a variety of fresh\, seasonal vegetables\, fruits\, and herbs harvested right from our urban farm sites.Come say hello\, support local growers\, and take home something healthy and delicious. We’d love to see you there!
URL:https://urbanrootsmn.org/event/east-side-farmers-market-5/
LOCATION:East Side Sculpture Park\, 705 E 7th Street\, Saint Paul\, Minnesota\, 55106
CATEGORIES:East Side Farmers Market,Farmers Markets
ATTACH;FMTTYPE=image/png:https://urbanrootsmn.org/wp-content/uploads/2026/04/16.png
END:VEVENT
BEGIN:VEVENT
DTSTART;TZID=America/Chicago:20260815T080000
DTEND;TZID=America/Chicago:20260815T130000
DTSTAMP:20260423T063857
CREATED:20260407T175704Z
LAST-MODIFIED:20260407T175704Z
UID:12642-1786780800-1786798800@urbanrootsmn.org
SUMMARY:Mill City Farmers Market
DESCRIPTION:Find us at the Mill City Farmers Market  every other Saturday\, from 8am-1pm. We’ll be bringing a vibrant selection of vegetables\, fruits\, and herbs freshly harvested from our urban farm sites. Come by our stand to stock up on what’s in season and support local food that makes a difference.
URL:https://urbanrootsmn.org/event/mill-city-farmers-market-16/
LOCATION:Mill City Farmers Market\, 750 S 2nd St\, Minneapolis\, Minnesota\, 55401
CATEGORIES:Farmers Markets,Mill City Farmers Market
ATTACH;FMTTYPE=image/png:https://urbanrootsmn.org/wp-content/uploads/2026/04/18.png
END:VEVENT
BEGIN:VEVENT
DTSTART;TZID=America/Chicago:20260823T130000
DTEND;TZID=America/Chicago:20260823T160000
DTSTAMP:20260423T063857
CREATED:20260409T163643Z
LAST-MODIFIED:20260409T163643Z
UID:12721-1787490000-1787500800@urbanrootsmn.org
SUMMARY:East Side Farmers Market
DESCRIPTION:Fresh from the Farm to the East Side! Find us every second Sunday of the month at the East Side Farmers Market from 1pm-4pm. The Market is held at the East Side Sculpture Park (corner of East 7th Street and Bates Avenue). \nWe’ll be there with a variety of fresh\, seasonal vegetables\, fruits\, and herbs harvested right from our urban farm sites.Come say hello\, support local growers\, and take home something healthy and delicious. We’d love to see you there!
URL:https://urbanrootsmn.org/event/east-side-farmers-market-6/
LOCATION:East Side Sculpture Park\, 705 E 7th Street\, Saint Paul\, Minnesota\, 55106
CATEGORIES:East Side Farmers Market,Farmers Markets
ATTACH;FMTTYPE=image/png:https://urbanrootsmn.org/wp-content/uploads/2026/04/16.png
END:VEVENT
BEGIN:VEVENT
DTSTART;TZID=America/Chicago:20260905T080000
DTEND;TZID=America/Chicago:20260905T130000
DTSTAMP:20260423T063857
CREATED:20260407T175919Z
LAST-MODIFIED:20260407T175919Z
UID:12646-1788595200-1788613200@urbanrootsmn.org
SUMMARY:Mill City Farmers Market
DESCRIPTION:Find us at the Mill City Farmers Market  every other Saturday\, from 8am-1pm. We’ll be bringing a vibrant selection of vegetables\, fruits\, and herbs freshly harvested from our urban farm sites. Come by our stand to stock up on what’s in season and support local food that makes a difference.
URL:https://urbanrootsmn.org/event/mill-city-farmers-market-17/
LOCATION:Mill City Farmers Market\, 750 S 2nd St\, Minneapolis\, Minnesota\, 55401
CATEGORIES:Farmers Markets,Mill City Farmers Market
ATTACH;FMTTYPE=image/png:https://urbanrootsmn.org/wp-content/uploads/2026/04/18.png
END:VEVENT
BEGIN:VEVENT
DTSTART;TZID=America/Chicago:20260912T100000
DTEND;TZID=America/Chicago:20260912T140000
DTSTAMP:20260423T063857
CREATED:20250408T184029Z
LAST-MODIFIED:20260226T210152Z
UID:11241-1789207200-1789221600@urbanrootsmn.org
SUMMARY:Rivoli Bluff Bash
DESCRIPTION:Join us for our sixth annual Rivoli Bluff Bash! This is a free\, family friendly\, community event. \n\nProduce giveaway\nFree face painting\nInfo tables\nThe Free Book Buggie (11am-1pm)\nTours\nMore!
URL:https://urbanrootsmn.org/event/rivoli-bluff-bash/
LOCATION:Rivoli Bluff Farm and Restoration Site\, 749 Arkwright St\, Saint Paul\, MN\, 55130\, United States
ATTACH;FMTTYPE=image/png:https://urbanrootsmn.org/wp-content/uploads/2025/04/Events-Page-ImagesBanners-1-1.png
END:VEVENT
BEGIN:VEVENT
DTSTART;TZID=America/Chicago:20260913T130000
DTEND;TZID=America/Chicago:20260913T160000
DTSTAMP:20260423T063857
CREATED:20260409T163909Z
LAST-MODIFIED:20260409T163909Z
UID:12723-1789304400-1789315200@urbanrootsmn.org
SUMMARY:East Side Farmers Market
DESCRIPTION:Fresh from the Farm to the East Side! Find us every second Sunday of the month at the East Side Farmers Market from 1pm-4pm. The Market is held at the East Side Sculpture Park (corner of East 7th Street and Bates Avenue). \nWe’ll be there with a variety of fresh\, seasonal vegetables\, fruits\, and herbs harvested right from our urban farm sites.Come say hello\, support local growers\, and take home something healthy and delicious. We’d love to see you there!
URL:https://urbanrootsmn.org/event/east-side-farmers-market-7/
LOCATION:East Side Sculpture Park\, 705 E 7th Street\, Saint Paul\, Minnesota\, 55106
CATEGORIES:East Side Farmers Market,Farmers Markets
ATTACH;FMTTYPE=image/png:https://urbanrootsmn.org/wp-content/uploads/2026/04/16.png
END:VEVENT
BEGIN:VEVENT
DTSTART;TZID=America/Chicago:20260919T080000
DTEND;TZID=America/Chicago:20260919T130000
DTSTAMP:20260423T063857
CREATED:20260407T180124Z
LAST-MODIFIED:20260407T180124Z
UID:12648-1789804800-1789822800@urbanrootsmn.org
SUMMARY:Mill City Farmers Market
DESCRIPTION:Find us at the Mill City Farmers Market  every other Saturday\, from 8am-1pm. We’ll be bringing a vibrant selection of vegetables\, fruits\, and herbs freshly harvested from our urban farm sites. Come by our stand to stock up on what’s in season and support local food that makes a difference.
URL:https://urbanrootsmn.org/event/mill-city-farmers-market-18/
LOCATION:Mill City Farmers Market\, 750 S 2nd St\, Minneapolis\, Minnesota\, 55401
CATEGORIES:Farmers Markets,Mill City Farmers Market
ATTACH;FMTTYPE=image/png:https://urbanrootsmn.org/wp-content/uploads/2026/04/18.png
END:VEVENT
BEGIN:VEVENT
DTSTART;TZID=America/Chicago:20260927T130000
DTEND;TZID=America/Chicago:20260927T160000
DTSTAMP:20260423T063857
CREATED:20260409T164120Z
LAST-MODIFIED:20260409T164120Z
UID:12725-1790514000-1790524800@urbanrootsmn.org
SUMMARY:East Side Farmers Market
DESCRIPTION:Fresh from the Farm to the East Side! Find us every second Sunday of the month at the East Side Farmers Market from 1pm-4pm. The Market is held at the East Side Sculpture Park (corner of East 7th Street and Bates Avenue). \nWe’ll be there with a variety of fresh\, seasonal vegetables\, fruits\, and herbs harvested right from our urban farm sites.Come say hello\, support local growers\, and take home something healthy and delicious. We’d love to see you there!
URL:https://urbanrootsmn.org/event/east-side-farmers-market-8/
LOCATION:East Side Sculpture Park\, 705 E 7th Street\, Saint Paul\, Minnesota\, 55106
CATEGORIES:East Side Farmers Market,Farmers Markets
ATTACH;FMTTYPE=image/png:https://urbanrootsmn.org/wp-content/uploads/2026/04/16.png
END:VEVENT
BEGIN:VEVENT
DTSTART;TZID=America/Chicago:20261003T080000
DTEND;TZID=America/Chicago:20261003T130000
DTSTAMP:20260423T063857
CREATED:20260407T180307Z
LAST-MODIFIED:20260407T180307Z
UID:12651-1791014400-1791032400@urbanrootsmn.org
SUMMARY:Mill City Farmers Market
DESCRIPTION:Find us at the Mill City Farmers Market  every other Saturday\, from 8am-1pm. We’ll be bringing a vibrant selection of vegetables\, fruits\, and herbs freshly harvested from our urban farm sites. Come by our stand to stock up on what’s in season and support local food that makes a difference.
URL:https://urbanrootsmn.org/event/mill-city-farmers-market-19/
LOCATION:Mill City Farmers Market\, 750 S 2nd St\, Minneapolis\, Minnesota\, 55401
CATEGORIES:Farmers Markets,Mill City Farmers Market
ATTACH;FMTTYPE=image/png:https://urbanrootsmn.org/wp-content/uploads/2026/04/18.png
END:VEVENT
BEGIN:VEVENT
DTSTART;VALUE=DATE:20261004
DTEND;VALUE=DATE:20261005
DTSTAMP:20260423T063857
CREATED:20260115T190024Z
LAST-MODIFIED:20260226T210308Z
UID:12308-1791072000-1791158399@urbanrootsmn.org
SUMMARY:Twin Cities Marathon and 10 Mile
DESCRIPTION:Are you planning to run the Twin Cities Marathon or TC 10 Mile on October 4? Would you like to put in the miles to help empower St. Paul youth? If so\, reach out to us about joining our Charity Team! Email info@UrbanRootsMN.org.
URL:https://urbanrootsmn.org/event/twin-cities-marathon-and-10-mile/
LOCATION:Minnesota
ATTACH;FMTTYPE=image/jpeg:https://urbanrootsmn.org/wp-content/uploads/2026/01/Twin-Cities-Marathon.jpg
END:VEVENT
BEGIN:VEVENT
DTSTART;TZID=America/Chicago:20261017T080000
DTEND;TZID=America/Chicago:20261017T130000
DTSTAMP:20260423T063857
CREATED:20260407T180443Z
LAST-MODIFIED:20260407T180443Z
UID:12653-1792224000-1792242000@urbanrootsmn.org
SUMMARY:Mill City Farmers Market
DESCRIPTION:Find us at the Mill City Farmers Market  every other Saturday\, from 8am-1pm. We’ll be bringing a vibrant selection of vegetables\, fruits\, and herbs freshly harvested from our urban farm sites. Come by our stand to stock up on what’s in season and support local food that makes a difference.
URL:https://urbanrootsmn.org/event/mill-city-farmers-market-20/
LOCATION:Mill City Farmers Market\, 750 S 2nd St\, Minneapolis\, Minnesota\, 55401
CATEGORIES:Farmers Markets,Mill City Farmers Market
ATTACH;FMTTYPE=image/png:https://urbanrootsmn.org/wp-content/uploads/2026/04/18.png
END:VEVENT
BEGIN:VEVENT
DTSTART;TZID=America/Chicago:20261031T080000
DTEND;TZID=America/Chicago:20261031T130000
DTSTAMP:20260423T063857
CREATED:20260407T180644Z
LAST-MODIFIED:20260407T180644Z
UID:12655-1793433600-1793451600@urbanrootsmn.org
SUMMARY:Mill City Farmers Market
DESCRIPTION:Find us at the Mill City Farmers Market  every other Saturday\, from 8am-1pm. We’ll be bringing a vibrant selection of vegetables\, fruits\, and herbs freshly harvested from our urban farm sites. Come by our stand to stock up on what’s in season and support local food that makes a difference.
URL:https://urbanrootsmn.org/event/mill-city-farmers-market-21/
LOCATION:Mill City Farmers Market\, 750 S 2nd St\, Minneapolis\, Minnesota\, 55401
CATEGORIES:Farmers Markets,Mill City Farmers Market
ATTACH;FMTTYPE=image/png:https://urbanrootsmn.org/wp-content/uploads/2026/04/18.png
END:VEVENT
BEGIN:VEVENT
DTSTART;VALUE=DATE:20261119
DTEND;VALUE=DATE:20261120
DTSTAMP:20260423T063857
CREATED:20260226T214805Z
LAST-MODIFIED:20260226T214805Z
UID:12519-1795046400-1795132799@urbanrootsmn.org
SUMMARY:Give to the Max Day
DESCRIPTION:Give to the Max Day is an annual fundraiser hosted by GiveMN that raised $37.8 million for Minnesota nonprofits in 2025. Help us empower youth to the max by supporting us this year on November 19 – thank you so much!
URL:https://urbanrootsmn.org/event/give-to-the-max-day/
LOCATION:Minnesota
ATTACH;FMTTYPE=image/png:https://urbanrootsmn.org/wp-content/uploads/2026/02/Events-Page-ImagesBanners-4.png
END:VEVENT
END:VCALENDAR