BEGIN:VCALENDAR
VERSION:2.0
PRODID:-//Urban Roots - ECPv6.15.20//NONSGML v1.0//EN
CALSCALE:GREGORIAN
METHOD:PUBLISH
X-WR-CALNAME:Urban Roots
X-ORIGINAL-URL:https://urbanrootsmn.org
X-WR-CALDESC:Events for Urban Roots
REFRESH-INTERVAL;VALUE=DURATION:PT1H
X-Robots-Tag:noindex
X-PUBLISHED-TTL:PT1H
BEGIN:VTIMEZONE
TZID:America/Chicago
BEGIN:DAYLIGHT
TZOFFSETFROM:-0600
TZOFFSETTO:-0500
TZNAME:CDT
DTSTART:20240310T080000
END:DAYLIGHT
BEGIN:STANDARD
TZOFFSETFROM:-0500
TZOFFSETTO:-0600
TZNAME:CST
DTSTART:20241103T070000
END:STANDARD
BEGIN:DAYLIGHT
TZOFFSETFROM:-0600
TZOFFSETTO:-0500
TZNAME:CDT
DTSTART:20250309T080000
END:DAYLIGHT
BEGIN:STANDARD
TZOFFSETFROM:-0500
TZOFFSETTO:-0600
TZNAME:CST
DTSTART:20251102T070000
END:STANDARD
BEGIN:DAYLIGHT
TZOFFSETFROM:-0600
TZOFFSETTO:-0500
TZNAME:CDT
DTSTART:20260308T080000
END:DAYLIGHT
BEGIN:STANDARD
TZOFFSETFROM:-0500
TZOFFSETTO:-0600
TZNAME:CST
DTSTART:20261101T070000
END:STANDARD
END:VTIMEZONE
BEGIN:VEVENT
DTSTART;TZID=America/Chicago:20250510T120000
DTEND;TZID=America/Chicago:20250510T150000
DTSTAMP:20260423T152735
CREATED:20250424T150839Z
LAST-MODIFIED:20250424T150839Z
UID:11340-1746878400-1746889200@urbanrootsmn.org
SUMMARY:Outdoor Recreation Resource Fair
DESCRIPTION:Hosted by Wilderness Inquiry and Queermunity\nSponsored by Minnesota Lakes and Rivers \nThe LGBTQ+ Outdoor Experience Recreation Fair is a free\, public event celebrating outdoor activities\, wellness\, and recreation within the LGBTQ+ and BIPOC communities. This one-day fair will feature door raffle giveaways\, vendor booths\, a free gear swap\, and guided activities focused on promoting outdoor experiences\, inclusive recreation\, as well as physical and mental well-being. Learn more about local opportunities for nature adventures\, canoeing day trips\, queer sports leagues\, hiking\, gardening\, forest bathing\, and more! The event provides a welcoming\, safe space for LGBTQ+ individuals to engage with outdoor offerings\, learn about new activities\, and connect with others who share similar interests. \n\nParking and Transit Info\nStreet Parking: Park on or south of 31st St.\, on Holmes\, Humboldt\, or Irving Ave. There’s usually ample free or metered street parking within a block of Queermunity. Meters are $2/hour. \nRamp Parking: We offer discounted parking validation for 7 Points ramp at Hennepin and 31st\, behind the mall across from Queermunity. Enter from Lake Street or 31st. Validation stickers are 2 hours for $3\, and anything over 2 hours is $6. Park in the lot and purchase your sticker at the cafe. \nADA Parking: Vehicles with disability plates or certificates can park for free in the surface lot next to 7 Points Ramp (entrance off 31st St.) as well as most meters on 31st St. These spots are about 100 ft. from the Queermunity front door. \nPublic Transportation: We are just a few blocks south of the Uptown Transit Station\, which is serviced by these routes: 6\, 12\, 17\, 21\, 23\, 53\, 114\, 115\, & 612. In particular\, the 6 and 23 stop just feet from our door\, on the corner of 31st
URL:https://urbanrootsmn.org/event/outdoor-recreation-resource-fair/
LOCATION:Queermunity MN\, 3036 Hennepin Ave\, Minneapolis\, MN\, 55408\, United States
ATTACH;FMTTYPE=image/jpeg:https://urbanrootsmn.org/wp-content/uploads/2025/04/Social-Image_Outdoor-Recreation-Resource-Fair.jpg
END:VEVENT
BEGIN:VEVENT
DTSTART;TZID=America/Chicago:20250503T130000
DTEND;TZID=America/Chicago:20250503T170000
DTSTAMP:20260423T152735
CREATED:20250403T200831Z
LAST-MODIFIED:20250403T203845Z
UID:11206-1746277200-1746291600@urbanrootsmn.org
SUMMARY:Saint Paul Art Crawl
DESCRIPTION:Join us on May 3\, 1-5 pm for the 2025 Spring St. Paul Art Crawl at Urban Roots! \nExplore artwork created by our talented youth interns alongside pieces from featured community artists in our gallery space \n\nEnjoy tasty snacks\nLearn about our mission\nFeel the vibe from our DJ Skyler\nCreate DIY art\nSupport our Youth Council at their bake sale\nPick up a free nature coloring book courtesy of our 4imprint one by one grant (while supplies last)\n\nThis event is free – stop by for an afternoon of creativity\, connection\, and community! Located in our main building at 1110 Payne Ave\, St. Paul. \nAbout the Art Crawl: \n\nOrganized by St. Paul Art Collective\nApril 25-27 | May 2-4 | May 9-11\nLocated in various gallery spaces\, music venues\, shared spaces\, and artist lofts across ten St. Paul neighborhoods.\nThe purpose is to connect artists with the community\, fostering a vibrant arts scene in St. Paul.
URL:https://urbanrootsmn.org/event/saint-paul-art-crawls/
LOCATION:Urban Roots\, 1110 Payne Ave\, Saint Paul
END:VEVENT
BEGIN:VEVENT
DTSTART;TZID=America/Chicago:20250421T180000
DTEND;TZID=America/Chicago:20250421T190000
DTSTAMP:20260423T152735
CREATED:20250403T204256Z
LAST-MODIFIED:20250404T193216Z
UID:11220-1745258400-1745262000@urbanrootsmn.org
SUMMARY:Seed Sorting Circle
DESCRIPTION:Come support the East Side Seed Library (located in the Dayton’s Bluff Library) with a seed sorting circle! We will meet at the Dayton’s Bluff Library from 6-7pm on Monday\, April 21 to organize donated seeds\, which will be given away at the seed library. This is a great time to share space to talk about gardening\, food sovereignty\, biodiversity and efforts to build community and ecological resiliency in the East Side.
URL:https://urbanrootsmn.org/event/seed-sorting-circle/
LOCATION:Dayton’s Bluff Library\, 645 E 7th St\, Saint Paul\, MN\, 55106\, United States
ATTACH;FMTTYPE=image/jpeg:https://urbanrootsmn.org/wp-content/uploads/2025/01/pollinator-garden.jpg
END:VEVENT
BEGIN:VEVENT
DTSTART;TZID=America/Chicago:20250419T090000
DTEND;TZID=America/Chicago:20250419T120000
DTSTAMP:20260423T152735
CREATED:20250408T200818Z
LAST-MODIFIED:20250408T234802Z
UID:11258-1745053200-1745064000@urbanrootsmn.org
SUMMARY:Community Clean Up at Bruce Vento
DESCRIPTION:On April 19th from 9am-12pm join Urban Roots at the Duluth and Case Rec Center\, 1020 Duluth St\, St Paul\, MN 55106\, to load up on supplies and help clean up the Bruce Vento Regional Trail. The trail follows an old railroad corridor and runs close to 7 miles long from St Paul to Gem Lake. Help clean up our neighborhoods and this awesome trail.
URL:https://urbanrootsmn.org/event/community-clean-up-at-bruce-vento/
LOCATION:Duluth and Case Recreation Center\, 1020 Duluth St\, Saint Paul\, Minnesota\, 55106
ATTACH;FMTTYPE=image/png:https://urbanrootsmn.org/wp-content/uploads/2025/04/Events-Page-ImagesBanners.png
END:VEVENT
BEGIN:VEVENT
DTSTART;TZID=America/Chicago:20250417T170000
DTEND;TZID=America/Chicago:20250417T190000
DTSTAMP:20260423T152735
CREATED:20250408T202229Z
LAST-MODIFIED:20250408T202229Z
UID:11262-1744909200-1744916400@urbanrootsmn.org
SUMMARY:PhilanthroBrew: Drink For A Cause
DESCRIPTION:Philanthro Brew is a weekly event hosted by Urban Growler Brewing Company. Urban Growler believes in the power of community and wanted a way to help organizations spread their message and connect with people\, thus the creation of the Philanthro Brew program! \n\n\n\n\nUrban Roots will be taking over the table on April 17th\, 5:00pm-7:00pm. Stop by and help us build community over a pint (or two).
URL:https://urbanrootsmn.org/event/philanthrobrew-drink-for-a-cause/
LOCATION:Urban Growler Brewing Company\, 2325 Endicott St\, Saint Paul\, Minnesota\, 55114
ATTACH;FMTTYPE=image/png:https://urbanrootsmn.org/wp-content/uploads/2025/04/8.png
END:VEVENT
BEGIN:VEVENT
DTSTART;TZID=America/Chicago:20250325T080000
DTEND;TZID=America/Chicago:20250325T170000
DTSTAMP:20260423T152735
CREATED:20250325T193011Z
LAST-MODIFIED:20250325T193011Z
UID:11142-1742889600-1742922000@urbanrootsmn.org
SUMMARY:Seed Stratifying Workshop
DESCRIPTION:
URL:https://urbanrootsmn.org/event/seed-stratifying-workshop/
ATTACH;FMTTYPE=image/jpeg:https://urbanrootsmn.org/wp-content/uploads/2024/12/IMG_7812-scaled.jpeg
END:VEVENT
END:VCALENDAR