BEGIN:VCALENDAR
VERSION:2.0
PRODID:-//Urban Roots - ECPv6.15.20//NONSGML v1.0//EN
CALSCALE:GREGORIAN
METHOD:PUBLISH
X-WR-CALNAME:Urban Roots
X-ORIGINAL-URL:https://urbanrootsmn.org
X-WR-CALDESC:Events for Urban Roots
REFRESH-INTERVAL;VALUE=DURATION:PT1H
X-Robots-Tag:noindex
X-PUBLISHED-TTL:PT1H
BEGIN:VTIMEZONE
TZID:America/Chicago
BEGIN:DAYLIGHT
TZOFFSETFROM:-0600
TZOFFSETTO:-0500
TZNAME:CDT
DTSTART:20240310T080000
END:DAYLIGHT
BEGIN:STANDARD
TZOFFSETFROM:-0500
TZOFFSETTO:-0600
TZNAME:CST
DTSTART:20241103T070000
END:STANDARD
BEGIN:DAYLIGHT
TZOFFSETFROM:-0600
TZOFFSETTO:-0500
TZNAME:CDT
DTSTART:20250309T080000
END:DAYLIGHT
BEGIN:STANDARD
TZOFFSETFROM:-0500
TZOFFSETTO:-0600
TZNAME:CST
DTSTART:20251102T070000
END:STANDARD
BEGIN:DAYLIGHT
TZOFFSETFROM:-0600
TZOFFSETTO:-0500
TZNAME:CDT
DTSTART:20260308T080000
END:DAYLIGHT
BEGIN:STANDARD
TZOFFSETFROM:-0500
TZOFFSETTO:-0600
TZNAME:CST
DTSTART:20261101T070000
END:STANDARD
END:VTIMEZONE
BEGIN:VEVENT
DTSTART;TZID=America/Chicago:20250906T080000
DTEND;TZID=America/Chicago:20250906T130000
DTSTAMP:20260423T124947
CREATED:20250505T191716Z
LAST-MODIFIED:20250505T192522Z
UID:11498-1757145600-1757163600@urbanrootsmn.org
SUMMARY:Mill City Farmers Market
DESCRIPTION:Find us at the Mill City Farmers Market  every other Saturday\, from 8am-1pm. We’ll be bringing a vibrant selection of vegetables\, fruits\, and herbs freshly harvested from our urban farm sites. Come by our stand to stock up on what’s in season and support local food that makes a difference.
URL:https://urbanrootsmn.org/event/mill-city-farmers-market-7/
LOCATION:Mill City Farmers Market\, 750 S 2nd St\, Minneapolis\, Minnesota\, 55401
CATEGORIES:Farmers Markets,Mill City Farmers Market
ATTACH;FMTTYPE=image/png:https://urbanrootsmn.org/wp-content/uploads/2025/05/Events-Page-Market-Mill-City.png
END:VEVENT
BEGIN:VEVENT
DTSTART;TZID=America/Chicago:20250912T160000
DTEND;TZID=America/Chicago:20250912T190000
DTSTAMP:20260423T124947
CREATED:20250505T184247Z
LAST-MODIFIED:20250505T190050Z
UID:11472-1757692800-1757703600@urbanrootsmn.org
SUMMARY:East Side Farmers Market
DESCRIPTION:Fresh from the Farm to the East Side!Starting in June\, you can find us every second Friday of the month at the East Side Farmers Market from 4pm-7pm. The Market is held at the East Side Sculpture Park (corner of East 7th Street and Bates Avenue). \nWe’ll be there with a variety of fresh\, seasonal vegetables\, fruits\, and herbs harvested right from our urban farm sites.Come say hello\, support local growers\, and take home something healthy and delicious. We’d love to see you there!
URL:https://urbanrootsmn.org/event/east-side-farmers-market-sept-2025/
LOCATION:East Side Sculpture Park\, 705 E 7th Street\, Saint Paul\, Minnesota\, 55106
CATEGORIES:East Side Farmers Market,Farmers Markets
ATTACH;FMTTYPE=image/png:https://urbanrootsmn.org/wp-content/uploads/2025/05/Events-Page-Market-East-Side.png
END:VEVENT
BEGIN:VEVENT
DTSTART;TZID=America/Chicago:20250917T160000
DTEND;TZID=America/Chicago:20250917T190000
DTSTAMP:20260423T124947
CREATED:20250902T185804Z
LAST-MODIFIED:20250904T220031Z
UID:11996-1758124800-1758135600@urbanrootsmn.org
SUMMARY:Farm Friends Wednesdays
DESCRIPTION:Looking for a way to get outside for a few hours and dig around in the dirt? Farm Friends Wednesday is the event for you! \nHeading into fall is a busy time of year for us; our to-do list is packed with big harvests\, prepping produce for winter storage\, and putting the gardens to bed. Not to mention\, the cool fall breeze makes garden work\, well\, a breeze! \nStop by and help us check a few things off our list! \n\nInterested in helping out but Wednesdays don’t work for you? We also offer Farm Friends Fridays\, reach out to the farm manager Marcos at mgiossi@urbanrootsmn.org to learn more.
URL:https://urbanrootsmn.org/event/farm-friends-wednesdays-2/
LOCATION:MN
CATEGORIES:Volunteer Event
ATTACH;FMTTYPE=image/jpeg:https://urbanrootsmn.org/wp-content/uploads/2025/09/Events-Page-ImagesBanners.jpg
END:VEVENT
BEGIN:VEVENT
DTSTART;TZID=America/Chicago:20250920T080000
DTEND;TZID=America/Chicago:20250920T130000
DTSTAMP:20260423T124947
CREATED:20250505T192047Z
LAST-MODIFIED:20250505T192504Z
UID:11500-1758355200-1758373200@urbanrootsmn.org
SUMMARY:Mill City Farmers Market
DESCRIPTION:Find us at the Mill City Farmers Market  every other Saturday\, from 8am-1pm. We’ll be bringing a vibrant selection of vegetables\, fruits\, and herbs freshly harvested from our urban farm sites. Come by our stand to stock up on what’s in season and support local food that makes a difference.
URL:https://urbanrootsmn.org/event/mill-city-farmers-market-8/
LOCATION:Mill City Farmers Market\, 750 S 2nd St\, Minneapolis\, Minnesota\, 55401
CATEGORIES:Farmers Markets,Mill City Farmers Market
ATTACH;FMTTYPE=image/png:https://urbanrootsmn.org/wp-content/uploads/2025/05/Events-Page-Market-Mill-City.png
END:VEVENT
BEGIN:VEVENT
DTSTART;TZID=America/Chicago:20250926T180000
DTEND;TZID=America/Chicago:20250926T210000
DTSTAMP:20260423T124947
CREATED:20250904T215731Z
LAST-MODIFIED:20250918T160223Z
UID:12006-1758909600-1758920400@urbanrootsmn.org
SUMMARY:Taproom Takeover: Roots Edition
DESCRIPTION:Urban Roots is taking over the taproom at Dual Citizen on Friday\, September 26th. \nThe Mobile Market will be on site\, along with games\, activities\, and opportunities to support our programming. \n \n\nDual Citizen Brewing Company is proud to announce its September 2025 partnership with Urban Roots\, a St. Paul–based nonprofit dedicated to empowering youth through nature\, healthy food\, and community. This collaboration is part of Dual Citizen’s Dual Purpose initiative\, the brewery’s philanthropic arm. \nThroughout September\, Dual Citizen Brewing will match up to $10\,000 in donations raised through the partnership. \n “We’re thrilled to spotlight Urban Roots this month as our non-profit partner for the month of September. Their work with the community runs deep and is extraordinarily connective\,” said Kyle Barck\, Operations Manager\, Dual Citizen Brewing. “Their work not only invests in the next generation of leaders but also creates a more sustainable and equitable future for our community.”
URL:https://urbanrootsmn.org/event/taproom-takeover-roots-edition/
LOCATION:Dual Citizen Brewing Co\, 725 Raymond Ave\, Saint Paul\, Minnesota\, 55114
ATTACH;FMTTYPE=image/jpeg:https://urbanrootsmn.org/wp-content/uploads/2025/09/Taproom-take-over.jpg
END:VEVENT
END:VCALENDAR