BEGIN:VCALENDAR
VERSION:2.0
PRODID:-//Urban Roots - ECPv6.15.20//NONSGML v1.0//EN
CALSCALE:GREGORIAN
METHOD:PUBLISH
X-ORIGINAL-URL:https://urbanrootsmn.org
X-WR-CALDESC:Events for Urban Roots
REFRESH-INTERVAL;VALUE=DURATION:PT1H
X-Robots-Tag:noindex
X-PUBLISHED-TTL:PT1H
BEGIN:VTIMEZONE
TZID:America/Chicago
BEGIN:DAYLIGHT
TZOFFSETFROM:-0600
TZOFFSETTO:-0500
TZNAME:CDT
DTSTART:20240310T080000
END:DAYLIGHT
BEGIN:STANDARD
TZOFFSETFROM:-0500
TZOFFSETTO:-0600
TZNAME:CST
DTSTART:20241103T070000
END:STANDARD
BEGIN:DAYLIGHT
TZOFFSETFROM:-0600
TZOFFSETTO:-0500
TZNAME:CDT
DTSTART:20250309T080000
END:DAYLIGHT
BEGIN:STANDARD
TZOFFSETFROM:-0500
TZOFFSETTO:-0600
TZNAME:CST
DTSTART:20251102T070000
END:STANDARD
BEGIN:DAYLIGHT
TZOFFSETFROM:-0600
TZOFFSETTO:-0500
TZNAME:CDT
DTSTART:20260308T080000
END:DAYLIGHT
BEGIN:STANDARD
TZOFFSETFROM:-0500
TZOFFSETTO:-0600
TZNAME:CST
DTSTART:20261101T070000
END:STANDARD
END:VTIMEZONE
BEGIN:VEVENT
DTSTART;VALUE=DATE:20251003
DTEND;VALUE=DATE:20251006
DTSTAMP:20260423T112509
CREATED:20250408T205405Z
LAST-MODIFIED:20250618T200331Z
UID:11277-1759449600-1759708799@urbanrootsmn.org
SUMMARY:Medtronic Twin Cities Marathon Weekend
DESCRIPTION:Support our charity race team! We will be running in the Medtronic Twin Cities Marathon and 10 mile. \nWhy join Team Urban Roots? Because you’ll… \n\nMake your miles matter by helping to raise funds and awareness for our work to empower youth\, improve greenspaces\, and grow and prepare healthy food.\nGet guaranteed\, $95+fees entry to the TC 10 Mile (which has first come\, first served registration this year). If you’re running the marathon\, registration is $139+fees (the lowest public price for the marathon is $149+fees and increases as the race fills).\nHave fun! You’ll be invited to an optional group training run for our team\, which was a great time last year\, and you’ll get extra-special cheers from our Cheer Zone.\n\n  \nHow do I join Team Urban Roots? \n\nLet us know before you register by emailing Team Captain Sara – be sure to mention which distance (marathon or 10 mile) you want to run.\nIf there’s still space on the team\, Sara will send you registration instructions.\n\nWhat’s expected of me if I join? \n\nThere is a $50 minimum fundraising requirement for TC 10 Mile runners (of course more is better!).\nAll team members are expected to share about the fundraiser with friends and family. Both Urban Roots and Twin Cities in Motion will have graphics you can use.\nFundraising will take place through Race Roster.
URL:https://urbanrootsmn.org/event/medtronic-twin-cities-marathon-weekend/
LOCATION:MN
ATTACH;FMTTYPE=image/png:https://urbanrootsmn.org/wp-content/uploads/2025/04/Events-Page-Race-Team.png
END:VEVENT
BEGIN:VEVENT
DTSTART;TZID=America/Chicago:20251004T080000
DTEND;TZID=America/Chicago:20251004T130000
DTSTAMP:20260423T112509
CREATED:20250505T192132Z
LAST-MODIFIED:20250505T192445Z
UID:11502-1759564800-1759582800@urbanrootsmn.org
SUMMARY:Mill City Farmers Market
DESCRIPTION:Find us at the Mill City Farmers Market  every other Saturday\, from 8am-1pm. We’ll be bringing a vibrant selection of vegetables\, fruits\, and herbs freshly harvested from our urban farm sites. Come by our stand to stock up on what’s in season and support local food that makes a difference.
URL:https://urbanrootsmn.org/event/mill-city-farmers-market-9/
LOCATION:Mill City Farmers Market\, 750 S 2nd St\, Minneapolis\, Minnesota\, 55401
CATEGORIES:Farmers Markets,Mill City Farmers Market
ATTACH;FMTTYPE=image/png:https://urbanrootsmn.org/wp-content/uploads/2025/05/Events-Page-Market-Mill-City.png
END:VEVENT
BEGIN:VEVENT
DTSTART;TZID=America/Chicago:20251006T170000
DTEND;TZID=America/Chicago:20251006T180000
DTSTAMP:20260423T112509
CREATED:20250924T170418Z
LAST-MODIFIED:20250924T170418Z
UID:12107-1759770000-1759773600@urbanrootsmn.org
SUMMARY:Native Seed Collection
DESCRIPTION:Learn about local native plants and best practices for sustainably collecting seeds! We will demonstrate seed collecting from the native flowers and grasses found at Rivoli Bluff\, a community garden site created by Urban Roots. Participants will leave with seeds and resources for processing and growing plants. RSVP to let us know you’re coming!
URL:https://urbanrootsmn.org/event/native-seed-collection/
LOCATION:Rivoli Bluff Farm and Restoration Site\, 749 Arkwright St\, Saint Paul\, MN\, 55130\, United States
ATTACH;FMTTYPE=image/jpeg:https://urbanrootsmn.org/wp-content/uploads/2025/09/19.jpg
END:VEVENT
BEGIN:VEVENT
DTSTART;TZID=America/Chicago:20251010T160000
DTEND;TZID=America/Chicago:20251010T190000
DTSTAMP:20260423T112509
CREATED:20250505T185918Z
LAST-MODIFIED:20250505T190111Z
UID:11475-1760112000-1760122800@urbanrootsmn.org
SUMMARY:East Side Farmers Market
DESCRIPTION:Fresh from the Farm to the East Side!Starting in June\, you can find us every second Friday of the month at the East Side Farmers Market from 4pm-7pm. The Market is held at the East Side Sculpture Park (corner of East 7th Street and Bates Avenue). \nWe’ll be there with a variety of fresh\, seasonal vegetables\, fruits\, and herbs harvested right from our urban farm sites.Come say hello\, support local growers\, and take home something healthy and delicious. We’d love to see you there!
URL:https://urbanrootsmn.org/event/east-side-farmers-market-oct-2025/
LOCATION:East Side Sculpture Park\, 705 E 7th Street\, Saint Paul\, Minnesota\, 55106
CATEGORIES:East Side Farmers Market,Farmers Markets
ATTACH;FMTTYPE=image/png:https://urbanrootsmn.org/wp-content/uploads/2025/05/Events-Page-Market-East-Side.png
END:VEVENT
BEGIN:VEVENT
DTSTART;TZID=America/Chicago:20251015T160000
DTEND;TZID=America/Chicago:20251015T190000
DTSTAMP:20260423T112509
CREATED:20250902T185733Z
LAST-MODIFIED:20250904T220103Z
UID:11998-1760544000-1760554800@urbanrootsmn.org
SUMMARY:Farm Friends Wednesdays
DESCRIPTION:Looking for a way to get outside for a few hours and dig around in the dirt? Farm Friends Wednesday is the event for you! \nHeading into fall is a busy time of year for us; our to-do list is packed with big harvests\, prepping produce for winter storage\, and putting the gardens to bed. Not to mention\, the cool fall breeze makes garden work\, well\, a breeze! \nStop by and help us check a few things off our list! \n\nInterested in helping out but Wednesdays don’t work for you? We also offer Farm Friends Fridays\, reach out to the farm manager Marcos at mgiossi@urbanrootsmn.org to learn more.
URL:https://urbanrootsmn.org/event/farm-friends-wednesdays/
LOCATION:MN
CATEGORIES:Volunteer Event
ATTACH;FMTTYPE=image/jpeg:https://urbanrootsmn.org/wp-content/uploads/2025/09/Events-Page-ImagesBanners.jpg
END:VEVENT
BEGIN:VEVENT
DTSTART;TZID=America/Chicago:20251015T180000
DTEND;TZID=America/Chicago:20251015T190000
DTSTAMP:20260423T112509
CREATED:20250924T171121Z
LAST-MODIFIED:20250924T171121Z
UID:12110-1760551200-1760554800@urbanrootsmn.org
SUMMARY:Community Seed Circles
DESCRIPTION:Join us on the third Wednesday of every month to help us sort seeds\, replenish the seed library\, and chat with neighbors about gardens! We will give an orientation to volunteers. Tea will be provided.
URL:https://urbanrootsmn.org/event/community-seed-circles/
LOCATION:Dayton’s Bluff Library\, 645 E 7th St\, Saint Paul\, MN\, 55106\, United States
ATTACH;FMTTYPE=image/jpeg:https://urbanrootsmn.org/wp-content/uploads/2025/09/18.jpg
ORGANIZER;CN="Dayton's Bluff Library":MAILTO:daytonsbluff@ci.stpaul.mn.us
END:VEVENT
BEGIN:VEVENT
DTSTART;TZID=America/Chicago:20251018T080000
DTEND;TZID=America/Chicago:20251018T130000
DTSTAMP:20260423T112509
CREATED:20250505T192223Z
LAST-MODIFIED:20250505T192422Z
UID:11504-1760774400-1760792400@urbanrootsmn.org
SUMMARY:Mill City Farmers Market
DESCRIPTION:Find us at the Mill City Farmers Market  every other Saturday\, from 8am-1pm. We’ll be bringing a vibrant selection of vegetables\, fruits\, and herbs freshly harvested from our urban farm sites. Come by our stand to stock up on what’s in season and support local food that makes a difference.
URL:https://urbanrootsmn.org/event/mill-city-farmers-market-10/
LOCATION:Mill City Farmers Market\, 750 S 2nd St\, Minneapolis\, Minnesota\, 55401
CATEGORIES:Farmers Markets,Mill City Farmers Market
ATTACH;FMTTYPE=image/png:https://urbanrootsmn.org/wp-content/uploads/2025/05/Events-Page-Market-Mill-City.png
END:VEVENT
BEGIN:VEVENT
DTSTART;TZID=America/Chicago:20251025T080000
DTEND;TZID=America/Chicago:20251025T130000
DTSTAMP:20260423T112509
CREATED:20250505T192354Z
LAST-MODIFIED:20250505T192354Z
UID:11506-1761379200-1761397200@urbanrootsmn.org
SUMMARY:Mill City Farmers Market
DESCRIPTION:Find us at the Mill City Farmers Market  every other Saturday\, from 8am-1pm. We’ll be bringing a vibrant selection of vegetables\, fruits\, and herbs freshly harvested from our urban farm sites. Come by our stand to stock up on what’s in season and support local food that makes a difference.
URL:https://urbanrootsmn.org/event/mill-city-farmers-market-11/
LOCATION:Mill City Farmers Market\, 750 S 2nd St\, Minneapolis\, Minnesota\, 55401
CATEGORIES:Farmers Markets,Mill City Farmers Market
ATTACH;FMTTYPE=image/png:https://urbanrootsmn.org/wp-content/uploads/2025/05/Events-Page-Market-Mill-City.png
END:VEVENT
END:VCALENDAR