BEGIN:VCALENDAR
VERSION:2.0
PRODID:-//Urban Roots - ECPv6.15.20//NONSGML v1.0//EN
CALSCALE:GREGORIAN
METHOD:PUBLISH
X-ORIGINAL-URL:https://urbanrootsmn.org
X-WR-CALDESC:Events for Urban Roots
REFRESH-INTERVAL;VALUE=DURATION:PT1H
X-Robots-Tag:noindex
X-PUBLISHED-TTL:PT1H
BEGIN:VTIMEZONE
TZID:America/Chicago
BEGIN:DAYLIGHT
TZOFFSETFROM:-0600
TZOFFSETTO:-0500
TZNAME:CDT
DTSTART:20250309T080000
END:DAYLIGHT
BEGIN:STANDARD
TZOFFSETFROM:-0500
TZOFFSETTO:-0600
TZNAME:CST
DTSTART:20251102T070000
END:STANDARD
BEGIN:DAYLIGHT
TZOFFSETFROM:-0600
TZOFFSETTO:-0500
TZNAME:CDT
DTSTART:20260308T080000
END:DAYLIGHT
BEGIN:STANDARD
TZOFFSETFROM:-0500
TZOFFSETTO:-0600
TZNAME:CST
DTSTART:20261101T070000
END:STANDARD
BEGIN:DAYLIGHT
TZOFFSETFROM:-0600
TZOFFSETTO:-0500
TZNAME:CDT
DTSTART:20270314T080000
END:DAYLIGHT
BEGIN:STANDARD
TZOFFSETFROM:-0500
TZOFFSETTO:-0600
TZNAME:CST
DTSTART:20271107T070000
END:STANDARD
END:VTIMEZONE
BEGIN:VEVENT
DTSTART;TZID=America/Chicago:20260218T170000
DTEND;TZID=America/Chicago:20260218T180000
DTSTAMP:20260423T050521
CREATED:20260212T145732Z
LAST-MODIFIED:20260212T145732Z
UID:12454-1771434000-1771437600@urbanrootsmn.org
SUMMARY:Seed Circle
DESCRIPTION:Seed Circles are starting up again! Join us on the third Wednesday of every month to help us sort seeds\, replenish the seed library\, and chat with neighbors about gardens! We will give an orientation to volunteers\, main tasks will include packing seeds for community distribution. Tea will be provided.
URL:https://urbanrootsmn.org/event/seed-circle/
LOCATION:Dayton’s Bluff Library\, 645 E 7th St\, Saint Paul\, MN\, 55106\, United States
END:VEVENT
END:VCALENDAR