BEGIN:VCALENDAR
VERSION:2.0
PRODID:-//Urban Roots - ECPv6.15.20//NONSGML v1.0//EN
CALSCALE:GREGORIAN
METHOD:PUBLISH
X-ORIGINAL-URL:https://urbanrootsmn.org
X-WR-CALDESC:Events for Urban Roots
REFRESH-INTERVAL;VALUE=DURATION:PT1H
X-Robots-Tag:noindex
X-PUBLISHED-TTL:PT1H
BEGIN:VTIMEZONE
TZID:America/Chicago
BEGIN:DAYLIGHT
TZOFFSETFROM:-0600
TZOFFSETTO:-0500
TZNAME:CDT
DTSTART:20250309T080000
END:DAYLIGHT
BEGIN:STANDARD
TZOFFSETFROM:-0500
TZOFFSETTO:-0600
TZNAME:CST
DTSTART:20251102T070000
END:STANDARD
BEGIN:DAYLIGHT
TZOFFSETFROM:-0600
TZOFFSETTO:-0500
TZNAME:CDT
DTSTART:20260308T080000
END:DAYLIGHT
BEGIN:STANDARD
TZOFFSETFROM:-0500
TZOFFSETTO:-0600
TZNAME:CST
DTSTART:20261101T070000
END:STANDARD
BEGIN:DAYLIGHT
TZOFFSETFROM:-0600
TZOFFSETTO:-0500
TZNAME:CDT
DTSTART:20270314T080000
END:DAYLIGHT
BEGIN:STANDARD
TZOFFSETFROM:-0500
TZOFFSETTO:-0600
TZNAME:CST
DTSTART:20271107T070000
END:STANDARD
END:VTIMEZONE
BEGIN:VEVENT
DTSTART;TZID=America/Chicago:20260516T120000
DTEND;TZID=America/Chicago:20260516T150000
DTSTAMP:20260423T033051
CREATED:20260311T201457Z
LAST-MODIFIED:20260311T201457Z
UID:12551-1778932800-1778943600@urbanrootsmn.org
SUMMARY:Eco Fair on Summit
DESCRIPTION:It’s easy being green at this free\, family-friendly event! \nEnjoy good food and learn about all things green\, from e-bikes to pollinator gardens\, electric vehicles to solar installations at the Eco Fair on Summit. \nFeatured at the event: \n\nBaby goats! (the natural weed prevention tool)\nElectric Vehicle Showroom featuring test drives with local dealers and private owners sharing the ‘inside scoop’ on ownership.\nElectric fire truck\nElectric school bus\nE-Bikes\nElectric lawn and garden tools\nResidential solar\nNative garden & pollinator experts\nWaste and recycling with City of St. Paul\nFood trucks and vegetarian options\nPlus\, a broad range of resource groups (including Urban Roots!)
URL:https://urbanrootsmn.org/event/eco-fair-on-summit/
LOCATION:House of Hope Presbyterian\, 797 Summit Ave\, Saint Paul\, MN\, 55105
END:VEVENT
END:VCALENDAR